BEGIN:VCALENDAR
VERSION:2.0
PRODID:icalendar-ruby
CALSCALE:GREGORIAN
METHOD:PUBLISH
BEGIN:VEVENT
DTSTAMP:20260421T110247Z
UID:5-392009@springfamilynight.com
DTSTART:20261004T170000Z
DTEND:20261004T180000Z
CLASS:PUBLIC
CREATED:20260420T174747
DESCRIPTION:Sunday Worship
LAST-MODIFIED:20260420T174747
LOCATION:
SUMMARY:Sunday Worship
URL;VALUE=URI:https://springfamilynight.com/events/sunday-worship/2026-10-0
 4
END:VEVENT
END:VCALENDAR
