BEGIN:VCALENDAR
VERSION:2.0
PRODID:icalendar-ruby
CALSCALE:GREGORIAN
METHOD:PUBLISH
BEGIN:VEVENT
DTSTAMP:20260421T141100Z
UID:5-392272@springfamilynight.com
DTSTART:20261018T170000Z
DTEND:20261018T180000Z
CLASS:PUBLIC
CREATED:20260421T045423
DESCRIPTION:Sunday Worship
LAST-MODIFIED:20260421T045423
LOCATION:
SUMMARY:Sunday Worship
URL;VALUE=URI:https://springfamilynight.com/events/sunday-worship/2026-10-1
 8
END:VEVENT
END:VCALENDAR
